BEGIN:VCALENDAR
VERSION:2.0
PRODID:-//Squarespace Inc/Squarespace 6//v6//EN
BEGIN:VEVENT
UID:5c128e3f40ec9aec8388fef2@squarespace.com
DTSTAMP:20181213T165847Z
DTSTART:20181227T170000Z
DTEND:20190105T180000Z
SUMMARY:Rented
END:VEVENT
END:VCALENDAR
