BEGIN:VCALENDAR
VERSION:2.0
PRODID:-//Squarespace Inc/Squarespace 6//v6//EN
BEGIN:VEVENT
UID:5c128edf21c67ce98d7abd35@squarespace.com
DTSTAMP:20181213T165817Z
DTSTART:20181224T170000Z
DTEND:20190105T180000Z
SUMMARY:Rented
END:VEVENT
END:VCALENDAR
