BEGIN:VCALENDAR
VERSION:2.0
PRODID:-//Squarespace Inc/Squarespace 6//v6//EN
BEGIN:VEVENT
UID:5c0f5b99032be447e43850d9@squarespace.com
DTSTAMP:20181211T065125Z
DTSTART:20190105T050000Z
DTEND:20190105T105900Z
SUMMARY:GEORGE FM SUMMER TOUR - MANGAWHAI 2019
END:VEVENT
END:VCALENDAR
