BEGIN:VCALENDAR
VERSION:2.0
PRODID:-//Squarespace Inc/Squarespace 6//v6//EN
BEGIN:VEVENT
UID:5c08d3664fa51ade138622a9@squarespace.com
DTSTAMP:20181210T081523Z
DTSTART:20190103T220000Z
DTEND:20190104T105900Z
SUMMARY:BAY DREAMS 2019 - Nelson
END:VEVENT
END:VCALENDAR
