BEGIN:VCALENDAR
VERSION:2.0
PRODID:-//Squarespace Inc/Squarespace 6//v6//EN
BEGIN:VEVENT
UID:5c08d20e03ce641ff7bd63b8@squarespace.com
DTSTAMP:20181210T081456Z
DTSTART:20190101T230000Z
DTEND:20190103T105900Z
SUMMARY:BAY DREAMS 2019 - The Mount
END:VEVENT
END:VCALENDAR
