BEGIN:VCALENDAR
VERSION:2.0
PRODID:-//Squarespace Inc/Squarespace 6//v6//EN
BEGIN:VEVENT
UID:5c0f5dac032be447e4386089@squarespace.com
DTSTAMP:20181211T065109Z
DTSTART:20190118T080000Z
DTEND:20190118T140000Z
SUMMARY:GEORGE FM SUMMER TOUR - NELSON 2019 
END:VEVENT
END:VCALENDAR
