BEGIN:VCALENDAR
VERSION:2.0
PRODID:-//Squarespace Inc/Squarespace 6//v6//EN
BEGIN:VEVENT
UID:5c0f5cfc1ae6cfa8b7b685a1@squarespace.com
DTSTAMP:20181211T065140Z
DTSTART:20190112T080000Z
DTEND:20190112T105900Z
SUMMARY:GEORGE FM SUMMER TOUR - WHITIANGA 2019
END:VEVENT
END:VCALENDAR
