BEGIN:VCALENDAR
VERSION:2.0
PRODID:-//Squarespace Inc/Squarespace 6//v6//EN
BEGIN:VEVENT
UID:5c08d0b06d2a73ebeeb59a8d@squarespace.com
DTSTAMP:20181210T081350Z
DTSTART:20181229T010000Z
DTEND:20181230T225900Z
SUMMARY:RHYTHM AND VINES 2018
END:VEVENT
END:VCALENDAR
