BEGIN:VCALENDAR
VERSION:2.0
PRODID:-//Squarespace Inc/Squarespace 6//v6//EN
BEGIN:VEVENT
UID:5c0a2a5a21c67cdfae3100ec@squarespace.com
DTSTAMP:20181210T081331Z
DTSTART:20181229T000000Z
DTEND:20181231T105900Z
SUMMARY:RHYTHM AND ALPS 2018
END:VEVENT
END:VCALENDAR
