BEGIN:VCALENDAR
VERSION:2.0
PRODID:-//Squarespace Inc/Squarespace 6//v6//EN
BEGIN:VEVENT
UID:5c0a1fcfb8a0451eb91a218a@squarespace.com
DTSTAMP:20181210T081207Z
DTSTART:20181228T200000Z
DTEND:20181231T105900Z
SUMMARY:NORTHERN BASS 2018
END:VEVENT
END:VCALENDAR
