BEGIN:VCALENDAR
VERSION:2.0
PRODID:-//Squarespace Inc/Squarespace 6//v6//EN
BEGIN:VEVENT
UID:5c0f61a81ae6cfa8b7b6a63e@squarespace.com
DTSTAMP:20181211T070709Z
DTSTART:20181228T080000Z
DTEND:20181228T105900Z
SUMMARY:GEORGE FM SUMMER TOUR - WHANGAMATA 2018
END:VEVENT
END:VCALENDAR
