BEGIN:VCALENDAR
VERSION:2.0
PRODID:-//Squarespace Inc/Squarespace 6//v6//EN
BEGIN:VEVENT
UID:5c0f6158575d1f9d541d7c32@squarespace.com
DTSTAMP:20181211T070441Z
DTSTART:20181228T020000Z
DTEND:20181228T090000Z
SUMMARY:GEORGE FM SUMMER TOUR - MATAKANA 2018
END:VEVENT
END:VCALENDAR
