BEGIN:VCALENDAR
VERSION:2.0
PRODID:-//Squarespace Inc/Squarespace 6//v6//EN
BEGIN:VEVENT
UID:5c0a456b70a6ad87633b3e3f@squarespace.com
DTSTAMP:20181210T080702Z
DTSTART:20181227T030000Z
DTEND:20181227T100000Z
SUMMARY:HIDDEN VALLEY FESTIVAL 2018
END:VEVENT
END:VCALENDAR
