BEGIN:VCALENDAR
VERSION:2.0
PRODID:-//Squarespace Inc/Squarespace 6//v6//EN
BEGIN:VEVENT
UID:5c172028f950b7d4a3748827@squarespace.com
DTSTAMP:20181217T040443Z
DTSTART:20181217T110000Z
DTEND:20181228T105900Z
SUMMARY:Rented
END:VEVENT
END:VCALENDAR
